BEGIN:VCALENDAR
PRODID:-//Google Inc//Google Calendar 70.9054//EN
VERSION:2.0
CALSCALE:GREGORIAN
METHOD:PUBLISH
X-WR-CALNAME:yeg.miyoshi@gmail.com
X-WR-TIMEZONE:Asia/Tokyo
BEGIN:VEVENT
DTSTART;VALUE=DATE:20190409
DTEND;VALUE=DATE:20190410
DTSTAMP:20250216T091043Z
UID:03nv0i6v2n29vt4io07jvlnnb8@google.com
CREATED:20190315T120809Z
LAST-MODIFIED:20190315T120809Z
SEQUENCE:0
STATUS:CONFIRMED
SUMMARY:正副会長会議
TRANSP:TRANSPARENT
END:VEVENT
BEGIN:VEVENT
DTSTART;VALUE=DATE:20190611
DTEND;VALUE=DATE:20190612
DTSTAMP:20250216T091043Z
UID:3f5897vao99lk6erjfdegd4ggb@google.com
CREATED:20190315T120829Z
LAST-MODIFIED:20190315T120829Z
SEQUENCE:0
STATUS:CONFIRMED
SUMMARY:正副会長会議
TRANSP:TRANSPARENT
END:VEVENT
BEGIN:VEVENT
DTSTART;VALUE=DATE:20190709
DTEND;VALUE=DATE:20190710
DTSTAMP:20250216T091043Z
UID:5aqqaptdrqoif85kh85jooue06@google.com
CREATED:20190315T120836Z
LAST-MODIFIED:20190315T120836Z
SEQUENCE:0
STATUS:CONFIRMED
SUMMARY:正副会長会議
TRANSP:TRANSPARENT
END:VEVENT
BEGIN:VEVENT
DTSTART;VALUE=DATE:20190806
DTEND;VALUE=DATE:20190807
DTSTAMP:20250216T091043Z
UID:090pakd905kjr7fi8gkgur947r@google.com
CREATED:20190315T120846Z
LAST-MODIFIED:20190315T120846Z
SEQUENCE:0
STATUS:CONFIRMED
SUMMARY:正副会長会議
TRANSP:TRANSPARENT
END:VEVENT
BEGIN:VEVENT
DTSTART;VALUE=DATE:20190917
DTEND;VALUE=DATE:20190918
DTSTAMP:20250216T091043Z
UID:4fov034sar5atslapaa4hrcdv0@google.com
CREATED:20190315T120918Z
LAST-MODIFIED:20190315T120918Z
SEQUENCE:0
STATUS:CONFIRMED
SUMMARY:役員会
TRANSP:TRANSPARENT
END:VEVENT
BEGIN:VEVENT
DTSTART;VALUE=DATE:20190820
DTEND;VALUE=DATE:20190821
DTSTAMP:20250216T091043Z
UID:23fgk6dfmrqgpgqhe217qi2lpd@google.com
CREATED:20190315T120931Z
LAST-MODIFIED:20190315T120931Z
SEQUENCE:0
STATUS:CONFIRMED
SUMMARY:役員会
TRANSP:TRANSPARENT
END:VEVENT
BEGIN:VEVENT
DTSTART;VALUE=DATE:20190716
DTEND;VALUE=DATE:20190717
DTSTAMP:20250216T091043Z
UID:1kruqn37knmi22rathufmeh630@google.com
CREATED:20190315T120940Z
LAST-MODIFIED:20190315T120940Z
SEQUENCE:0
STATUS:CONFIRMED
SUMMARY:役員会
TRANSP:TRANSPARENT
END:VEVENT
BEGIN:VEVENT
DTSTART;VALUE=DATE:20190618
DTEND;VALUE=DATE:20190619
DTSTAMP:20250216T091043Z
UID:5315fqv7jcrtcju34v3asrpqsf@google.com
CREATED:20190315T120949Z
LAST-MODIFIED:20190315T120949Z
SEQUENCE:0
STATUS:CONFIRMED
SUMMARY:役員会
TRANSP:TRANSPARENT
END:VEVENT
BEGIN:VEVENT
DTSTART;VALUE=DATE:20190416
DTEND;VALUE=DATE:20190417
DTSTAMP:20250216T091043Z
UID:7ofhkcji566mdbom94g019h1j1@google.com
CREATED:20190315T121002Z
LAST-MODIFIED:20190315T121002Z
SEQUENCE:0
STATUS:CONFIRMED
SUMMARY:役員会
TRANSP:TRANSPARENT
END:VEVENT
BEGIN:VEVENT
DTSTART;VALUE=DATE:20190419
DTEND;VALUE=DATE:20190420
DTSTAMP:20250216T091043Z
UID:6sk8akfsvnfccrkp6t67s9hun1@google.com
CREATED:20190315T121037Z
LAST-MODIFIED:20190315T121049Z
SEQUENCE:0
STATUS:CONFIRMED
SUMMARY:県連会長会議･役員会（三次）
TRANSP:TRANSPARENT
END:VEVENT
BEGIN:VEVENT
DTSTART;VALUE=DATE:20190511
DTEND;VALUE=DATE:20190512
DTSTAMP:20250216T091043Z
UID:62dn0vk24i8oj8sonssl4ind49@google.com
CREATED:20190315T121146Z
LAST-MODIFIED:20190315T121146Z
SEQUENCE:0
STATUS:CONFIRMED
SUMMARY:中ブロ役員会･総会･会長会議（江津）
TRANSP:TRANSPARENT
END:VEVENT
BEGIN:VEVENT
DTSTART;VALUE=DATE:20190614
DTEND;VALUE=DATE:20190615
DTSTAMP:20250216T091043Z
UID:3gii0dadt4fh8irsl95an0ameb@google.com
CREATED:20190315T121209Z
LAST-MODIFIED:20190315T121209Z
SEQUENCE:0
STATUS:CONFIRMED
SUMMARY:県連役員会（広島）
TRANSP:TRANSPARENT
END:VEVENT
BEGIN:VEVENT
DTSTART;VALUE=DATE:20190809
DTEND;VALUE=DATE:20190810
DTSTAMP:20250216T091043Z
UID:0njamla4qdimcaeun0kkjdqjik@google.com
CREATED:20190315T121250Z
LAST-MODIFIED:20190315T121250Z
SEQUENCE:0
STATUS:CONFIRMED
SUMMARY:福山YEG10周年（福山）
TRANSP:TRANSPARENT
END:VEVENT
BEGIN:VEVENT
DTSTART;VALUE=DATE:20190823
DTEND;VALUE=DATE:20190824
DTSTAMP:20250216T091043Z
UID:2ko53dadhvgcdpupv0dsg22flh@google.com
CREATED:20190315T121317Z
LAST-MODIFIED:20190315T121317Z
SEQUENCE:0
STATUS:CONFIRMED
SUMMARY:県連会長会議･役員会（府中）
TRANSP:TRANSPARENT
END:VEVENT
BEGIN:VEVENT
DTSTART;VALUE=DATE:20191018
DTEND;VALUE=DATE:20191019
DTSTAMP:20250216T091043Z
UID:0koj097tb32ej4u1tuhng2uo5c@google.com
CREATED:20190315T121407Z
LAST-MODIFIED:20190315T121407Z
SEQUENCE:0
STATUS:CONFIRMED
SUMMARY:県連役員会（大竹）
TRANSP:TRANSPARENT
END:VEVENT
BEGIN:VEVENT
DTSTART;VALUE=DATE:20191116
DTEND;VALUE=DATE:20191117
DTSTAMP:20250216T091043Z
UID:3qpunov49c0nr3uri9r7h155vm@google.com
CREATED:20190315T121456Z
LAST-MODIFIED:20190315T121456Z
SEQUENCE:0
STATUS:CONFIRMED
SUMMARY:東広島YEG30周年（東広島）
TRANSP:TRANSPARENT
END:VEVENT
BEGIN:VEVENT
DTSTART;VALUE=DATE:20191213
DTEND;VALUE=DATE:20191214
DTSTAMP:20250216T091043Z
UID:49rsjt1lr1090skg31jq7lt50s@google.com
CREATED:20190315T121545Z
LAST-MODIFIED:20190315T121545Z
SEQUENCE:0
STATUS:CONFIRMED
SUMMARY:県連会長会議･役員会（福山）
TRANSP:TRANSPARENT
END:VEVENT
BEGIN:VEVENT
DTSTART;VALUE=DATE:20200214
DTEND;VALUE=DATE:20200215
DTSTAMP:20250216T091043Z
UID:5aat7d6hkr8l0sck4hsv355vj6@google.com
CREATED:20190315T121621Z
LAST-MODIFIED:20190315T121621Z
SEQUENCE:0
STATUS:CONFIRMED
SUMMARY:県連会長会議･役員会（廿日市）
TRANSP:TRANSPARENT
END:VEVENT
BEGIN:VEVENT
DTSTART;VALUE=DATE:20191008
DTEND;VALUE=DATE:20191009
DTSTAMP:20250216T091043Z
UID:0h5lg1rrjt42h4v5h4rjas63il@google.com
CREATED:20190315T121646Z
LAST-MODIFIED:20190315T121646Z
SEQUENCE:0
STATUS:CONFIRMED
SUMMARY:正副会長会議
TRANSP:TRANSPARENT
END:VEVENT
BEGIN:VEVENT
DTSTART;VALUE=DATE:20191112
DTEND;VALUE=DATE:20191113
DTSTAMP:20250216T091043Z
UID:1dje4a05to3tpoa93ug5hj33jc@google.com
CREATED:20190315T121653Z
LAST-MODIFIED:20190315T121653Z
SEQUENCE:0
STATUS:CONFIRMED
SUMMARY:正副会長会議
TRANSP:TRANSPARENT
END:VEVENT
BEGIN:VEVENT
DTSTART;VALUE=DATE:20191210
DTEND;VALUE=DATE:20191211
DTSTAMP:20250216T091043Z
UID:7tjc6r1jtna8asuhv2k03a48b8@google.com
CREATED:20190315T121700Z
LAST-MODIFIED:20190315T121700Z
SEQUENCE:0
STATUS:CONFIRMED
SUMMARY:正副会長会議
TRANSP:TRANSPARENT
END:VEVENT
BEGIN:VEVENT
DTSTART;VALUE=DATE:20200114
DTEND;VALUE=DATE:20200115
DTSTAMP:20250216T091043Z
UID:27d341b1fnb8gemiepo5gklqss@google.com
CREATED:20190315T121722Z
LAST-MODIFIED:20190315T121722Z
SEQUENCE:0
STATUS:CONFIRMED
SUMMARY:正副会長会議
TRANSP:TRANSPARENT
END:VEVENT
BEGIN:VEVENT
DTSTART;VALUE=DATE:20200212
DTEND;VALUE=DATE:20200213
DTSTAMP:20250216T091043Z
UID:79igaj3l5sd5a0fma0sk4jtrcu@google.com
CREATED:20190315T121729Z
LAST-MODIFIED:20190315T121729Z
SEQUENCE:0
STATUS:CONFIRMED
SUMMARY:正副会長会議
TRANSP:TRANSPARENT
END:VEVENT
BEGIN:VEVENT
DTSTART;VALUE=DATE:20200218
DTEND;VALUE=DATE:20200219
DTSTAMP:20250216T091043Z
UID:67rvtt2h616v2ddiggq0g9d75t@google.com
CREATED:20190315T121758Z
LAST-MODIFIED:20190315T121758Z
SEQUENCE:0
STATUS:CONFIRMED
SUMMARY:役員会
TRANSP:TRANSPARENT
END:VEVENT
BEGIN:VEVENT
DTSTART;VALUE=DATE:20200121
DTEND;VALUE=DATE:20200122
DTSTAMP:20250216T091043Z
UID:3q59ot4pp6aae5nfbo59h8i6j7@google.com
CREATED:20190315T121808Z
LAST-MODIFIED:20190315T121808Z
SEQUENCE:0
STATUS:CONFIRMED
SUMMARY:役員会
TRANSP:TRANSPARENT
END:VEVENT
BEGIN:VEVENT
DTSTART;VALUE=DATE:20191217
DTEND;VALUE=DATE:20191218
DTSTAMP:20250216T091043Z
UID:153guos7l40jmki7ksb7ljsat0@google.com
CREATED:20190315T121816Z
LAST-MODIFIED:20190315T121816Z
SEQUENCE:0
STATUS:CONFIRMED
SUMMARY:役員会
TRANSP:TRANSPARENT
END:VEVENT
BEGIN:VEVENT
DTSTART;VALUE=DATE:20191119
DTEND;VALUE=DATE:20191120
DTSTAMP:20250216T091043Z
UID:75spqgdh5631n0figssgqk4irr@google.com
CREATED:20190315T121825Z
LAST-MODIFIED:20190315T121825Z
SEQUENCE:0
STATUS:CONFIRMED
SUMMARY:役員会
TRANSP:TRANSPARENT
END:VEVENT
BEGIN:VEVENT
DTSTART;VALUE=DATE:20191015
DTEND;VALUE=DATE:20191016
DTSTAMP:20250216T091043Z
UID:03o5rie4td3n7sl7pg13p6ub1s@google.com
CREATED:20190315T121835Z
LAST-MODIFIED:20190315T121835Z
SEQUENCE:0
STATUS:CONFIRMED
SUMMARY:役員会
TRANSP:TRANSPARENT
END:VEVENT
BEGIN:VEVENT
DTSTART;VALUE=DATE:20191026
DTEND;VALUE=DATE:20191028
DTSTAMP:20250216T091043Z
UID:1vnb3o409e3f4dkf0ramgjqelr@google.com
CREATED:20190315T121853Z
LAST-MODIFIED:20190315T121853Z
SEQUENCE:0
STATUS:CONFIRMED
SUMMARY:商工フェスティバル
TRANSP:TRANSPARENT
END:VEVENT
BEGIN:VEVENT
DTSTART;VALUE=DATE:20191004
DTEND;VALUE=DATE:20191006
DTSTAMP:20250216T091043Z
UID:40fam8q7cmk34e3n63ia2o9ff6@google.com
CREATED:20190315T121925Z
LAST-MODIFIED:20190315T121925Z
SEQUENCE:0
STATUS:CONFIRMED
SUMMARY:中ブロ江津大会
TRANSP:TRANSPARENT
END:VEVENT
BEGIN:VEVENT
DTSTART;VALUE=DATE:20191107
DTEND;VALUE=DATE:20191110
DTSTAMP:20250216T091043Z
UID:1r0k20ajcu5tso9u1subnm57r7@google.com
CREATED:20190315T121950Z
LAST-MODIFIED:20190315T121950Z
SEQUENCE:0
STATUS:CONFIRMED
SUMMARY:全国会長研修会（長野）
TRANSP:TRANSPARENT
END:VEVENT
BEGIN:VEVENT
DTSTART;VALUE=DATE:20190318
DTEND;VALUE=DATE:20190319
DTSTAMP:20250216T091043Z
UID:55l9qr7b8ug1dt26irmee57i4c@google.com
CREATED:20190315T123709Z
LAST-MODIFIED:20190315T123709Z
SEQUENCE:0
STATUS:CONFIRMED
SUMMARY:通常総会･30年度卒業式
TRANSP:TRANSPARENT
END:VEVENT
BEGIN:VEVENT
DTSTART;VALUE=DATE:20190423
DTEND;VALUE=DATE:20190425
DTSTAMP:20250216T091043Z
UID:7t6hge8vb8dhuj4reqgbs9h4v6@google.com
CREATED:20190413T030430Z
LAST-MODIFIED:20190413T030430Z
SEQUENCE:0
STATUS:CONFIRMED
SUMMARY:会長会議＠日本商工会議所（東京）
TRANSP:TRANSPARENT
END:VEVENT
BEGIN:VEVENT
DTSTART;VALUE=DATE:20190427
DTEND;VALUE=DATE:20190428
DTSTAMP:20250216T091043Z
UID:0tq0780f4742j2m78vn3pic2g2@google.com
CREATED:20190413T030532Z
LAST-MODIFIED:20190413T030532Z
SEQUENCE:0
STATUS:CONFIRMED
SUMMARY:三次唐麺焼出店＠三次もののけミュージアム開館イベント
TRANSP:TRANSPARENT
END:VEVENT
BEGIN:VEVENT
DTSTART;VALUE=DATE:20190510
DTEND;VALUE=DATE:20190511
DTSTAMP:20250216T091043Z
UID:7va33b3onk7imcugc1fvs5u1d3@google.com
CREATED:20190413T030609Z
LAST-MODIFIED:20190413T030609Z
SEQUENCE:0
STATUS:CONFIRMED
SUMMARY:会長＠出雲（激励会）
TRANSP:TRANSPARENT
END:VEVENT
BEGIN:VEVENT
DTSTART;VALUE=DATE:20190518
DTEND;VALUE=DATE:20190519
DTSTAMP:20250216T091043Z
UID:4o2ai7dt3r6vtt8nre6rvldh6d@google.com
CREATED:20190413T030647Z
LAST-MODIFIED:20190413T030647Z
SEQUENCE:0
STATUS:CONFIRMED
SUMMARY:会長＠米子40周年記念祝賀会
TRANSP:TRANSPARENT
END:VEVENT
BEGIN:VEVENT
DTSTART;VALUE=DATE:20190514
DTEND;VALUE=DATE:20190515
DTSTAMP:20250216T091043Z
UID:0mp2ie2b7ohd7k3d1c4cmm2ktb@google.com
CREATED:20190315T120821Z
LAST-MODIFIED:20190413T030700Z
SEQUENCE:2
STATUS:CONFIRMED
SUMMARY:正副会長会議
TRANSP:TRANSPARENT
END:VEVENT
BEGIN:VEVENT
DTSTART;VALUE=DATE:20190523
DTEND;VALUE=DATE:20190524
DTSTAMP:20250216T091043Z
UID:0rkiqlmpl0hu8532vb0ag36m9l@google.com
CREATED:20190315T120955Z
LAST-MODIFIED:20190413T030704Z
SEQUENCE:1
STATUS:CONFIRMED
SUMMARY:役員会
TRANSP:TRANSPARENT
END:VEVENT
BEGIN:VEVENT
DTSTART;VALUE=DATE:20190613
DTEND;VALUE=DATE:20190614
DTSTAMP:20250216T091043Z
UID:1avl8ehe87u4n3nu9urlsrr28t@google.com
CREATED:20190413T030743Z
LAST-MODIFIED:20190413T030743Z
SEQUENCE:0
STATUS:CONFIRMED
SUMMARY:会員通常総会
TRANSP:TRANSPARENT
END:VEVENT
BEGIN:VEVENT
DTSTART;VALUE=DATE:20190907
DTEND;VALUE=DATE:20190908
DTSTAMP:20250216T091043Z
UID:3k2qqpnk8h0uppvj3fud827v9n@google.com
CREATED:20190413T030934Z
LAST-MODIFIED:20190413T030934Z
SEQUENCE:0
STATUS:CONFIRMED
SUMMARY:Carp三次デー
TRANSP:TRANSPARENT
END:VEVENT
BEGIN:VEVENT
DTSTART;VALUE=DATE:20190910
DTEND;VALUE=DATE:20190911
DTSTAMP:20250216T091043Z
UID:10qovjfa38devl3h2ak52i7tn7@google.com
CREATED:20190315T120854Z
LAST-MODIFIED:20190413T030952Z
SEQUENCE:1
STATUS:CONFIRMED
SUMMARY:正副会長会議
TRANSP:TRANSPARENT
END:VEVENT
BEGIN:VEVENT
DTSTART;VALUE=DATE:20200220
DTEND;VALUE=DATE:20200224
DTSTAMP:20250216T091043Z
UID:63kkflcifffukn90ns4t1imamr@google.com
CREATED:20190315T122031Z
LAST-MODIFIED:20190413T031302Z
SEQUENCE:1
STATUS:CONFIRMED
SUMMARY:第39回全国大会（沼津）
TRANSP:TRANSPARENT
END:VEVENT
BEGIN:VEVENT
DTSTART;VALUE=DATE:20191208
DTEND;VALUE=DATE:20191209
DTSTAMP:20250216T091043Z
UID:0o8e5qfqptancvcnlpmekppt6i@google.com
CREATED:20190413T031132Z
LAST-MODIFIED:20190417T072241Z
SEQUENCE:1
STATUS:CONFIRMED
SUMMARY:中国ブロック周年事業（予定）
TRANSP:TRANSPARENT
END:VEVENT
BEGIN:VEVENT
DTSTART;VALUE=DATE:20190528
DTEND;VALUE=DATE:20190529
DTSTAMP:20250216T091043Z
UID:71addh1nujqia67umkp3gdi0cm@google.com
CREATED:20190501T122154Z
DESCRIPTION:３０日になる可能性も有り
LAST-MODIFIED:20190501T122154Z
LOCATION:三次商工会議所\, 日本、〒728-0021 広島県三次市三次町三次町 1843−1
SEQUENCE:0
STATUS:CONFIRMED
SUMMARY:会員オリエンテーション
TRANSP:TRANSPARENT
END:VEVENT
BEGIN:VEVENT
DTSTART:20190508T103000Z
DTEND:20190508T123000Z
DTSTAMP:20250216T091043Z
UID:C061E980-DC3B-4414-83C1-19059C026F2D
CREATED:20190418T105451Z
LAST-MODIFIED:20190502T123825Z
LOCATION:（株）テイケイ西日本 三次営業所\, 日本、〒728-0012 広島県三次市十日市中１丁目１−２２
SEQUENCE:0
STATUS:CONFIRMED
SUMMARY:企画委員会・唐PR室合同個別会議
TRANSP:OPAQUE
END:VEVENT
BEGIN:VEVENT
DTSTART;VALUE=DATE:20190617
DTEND;VALUE=DATE:20190618
DTSTAMP:20250216T091043Z
UID:1nnnuclpsuigjuk7d22ne7utua@google.com
CREATED:20190514T125452Z
LAST-MODIFIED:20190514T125452Z
SEQUENCE:0
STATUS:CONFIRMED
SUMMARY:竹原YEG
TRANSP:TRANSPARENT
END:VEVENT
BEGIN:VEVENT
DTSTART:20190525T040000Z
DTEND:20190525T070000Z
DTSTAMP:20250216T091043Z
UID:7rs3js65ocifgnrgp1c96vjc8a@google.com
CREATED:20190524T051201Z
LAST-MODIFIED:20190524T051201Z
LOCATION:板金塗装 ボディワークスギシタ\, 日本、〒728-0016 広島県三次市四拾貫町２４８−１
SEQUENCE:0
STATUS:CONFIRMED
SUMMARY:唐プロ倉庫整理
TRANSP:OPAQUE
END:VEVENT
BEGIN:VEVENT
DTSTART:20190610T040000Z
DTEND:20190610T043000Z
DTSTAMP:20250216T091043Z
UID:54r8rnsgm203i1iip0fbktknm4@google.com
CREATED:20190528T112934Z
LAST-MODIFIED:20190528T112934Z
LOCATION:三次商工会議所\, 日本\, 〒728-0021 広島県三次市三次町1843−1
SEQUENCE:0
STATUS:CONFIRMED
SUMMARY:正副会頭挨拶
TRANSP:OPAQUE
END:VEVENT
BEGIN:VEVENT
DTSTART:20190605T100000Z
DTEND:20190605T120000Z
DTSTAMP:20250216T091043Z
UID:39itk9shuem10iccv84335mnpa@google.com
CREATED:20190530T120050Z
LAST-MODIFIED:20190530T120050Z
LOCATION:（株）テイケイ西日本 三次営業所\, 日本、〒728-0012 広島県三次市十日市中１丁目１−２２
SEQUENCE:0
STATUS:CONFIRMED
SUMMARY:三次唐PR個別会議
TRANSP:OPAQUE
END:VEVENT
BEGIN:VEVENT
DTSTART:20190606T110000Z
DTEND:20190606T120000Z
DTSTAMP:20250216T091043Z
UID:38n073brhvcoq0m0p97od3ovst@google.com
CREATED:20190605T051056Z
LAST-MODIFIED:20190605T051056Z
SEQUENCE:0
STATUS:CONFIRMED
SUMMARY:渉外委員会個別会議
TRANSP:OPAQUE
END:VEVENT
BEGIN:VEVENT
DTSTART;VALUE=DATE:20190803
DTEND;VALUE=DATE:20190805
DTSTAMP:20250216T091043Z
UID:2f7j6hsmsssd69jp7ha30ed15a@google.com
CREATED:20190620T050531Z
LAST-MODIFIED:20190620T050531Z
LOCATION:松江市役所 駐車場\, 日本、〒690-0846 島根県松江市末次町
SEQUENCE:0
STATUS:CONFIRMED
SUMMARY:松江水郷祭　三次唐麺焼PR出店
TRANSP:TRANSPARENT
END:VEVENT
BEGIN:VEVENT
DTSTART:20190626T100000Z
DTEND:20190626T120000Z
DTSTAMP:20250216T091043Z
UID:0avih3530fqrslf3r1ua18j063@google.com
CREATED:20190620T070848Z
LAST-MODIFIED:20190620T070848Z
LOCATION:梵行山 専法寺\, 日本、〒728-0021 広島県三次市三次町１１９１
SEQUENCE:0
STATUS:CONFIRMED
SUMMARY:唐プロ会議
TRANSP:OPAQUE
END:VEVENT
BEGIN:VEVENT
DTSTART:20190719T050000Z
DTEND:20190719T060000Z
DTSTAMP:20250216T091043Z
UID:FC941788-A769-4422-9B64-72DBA2AF4F25
CREATED:20190628T071933Z
LAST-MODIFIED:20190628T071933Z
LOCATION:松江商工会議所
SEQUENCE:0
STATUS:CONFIRMED
SUMMARY:松江水郷祭 衛生管理説明会
TRANSP:OPAQUE
BEGIN:VALARM
ACTION:NONE
TRIGGER;VALUE=DATE-TIME:19760401T005545Z
END:VALARM
END:VEVENT
BEGIN:VEVENT
DTSTART:20191012T210000Z
DTEND:20191013T090000Z
DTSTAMP:20250216T091043Z
UID:4tt788064h9hfjesq1mpdu333e@google.com
CREATED:20190729T160018Z
LAST-MODIFIED:20190729T160018Z
LOCATION:マツダ三次試験場 正門前\, 日本、〒728-0023 広島県三次市東酒屋町５５６
SEQUENCE:0
STATUS:CONFIRMED
SUMMARY:ロードスター30周年ミーティング出店
TRANSP:OPAQUE
END:VEVENT
BEGIN:VEVENT
DTSTART:20191016T060000Z
DTEND:20191016T100000Z
DTSTAMP:20250216T091043Z
UID:5eq0c06e5kjccl165n8olgiphg@google.com
CREATED:20190729T160034Z
DESCRIPTION:三次唐麺焼PJ
LAST-MODIFIED:20190729T160034Z
LOCATION:ホテルグランヴィア広島\, 日本、〒732-0822 広島県広島市南区松原町１−５
SEQUENCE:0
STATUS:CONFIRMED
SUMMARY:広島DC会議
TRANSP:OPAQUE
END:VEVENT
BEGIN:VEVENT
DTSTART;VALUE=DATE:20190821
DTEND;VALUE=DATE:20190822
DTSTAMP:20250216T091043Z
UID:4ek54fvqlqnb3n9ut0tsmut6jq@google.com
CREATED:20190820T111908Z
LAST-MODIFIED:20190820T111908Z
SEQUENCE:0
STATUS:CONFIRMED
SUMMARY:県連交流事業
TRANSP:TRANSPARENT
END:VEVENT
BEGIN:VEVENT
DTSTART:20190909T090000Z
DTEND:20190909T130000Z
DTSTAMP:20250216T091043Z
UID:403r8dglh398nh27jfmrmvl1jb@google.com
CREATED:20190820T112059Z
LAST-MODIFIED:20190820T112059Z
LOCATION:グランラセーレ三次\, 日本、〒728-0014 広島県三次市十日市南１丁目５−５
SEQUENCE:0
STATUS:CONFIRMED
SUMMARY:第67回臨時会員総会
TRANSP:OPAQUE
END:VEVENT
BEGIN:VEVENT
DTSTART;VALUE=DATE:20190921
DTEND;VALUE=DATE:20190922
DTSTAMP:20250216T091043Z
UID:5m8v60l31tvvi4ihh5slptn1d7@google.com
CREATED:20190820T112614Z
LAST-MODIFIED:20190820T112614Z
SEQUENCE:0
STATUS:CONFIRMED
SUMMARY:県連交流事業
TRANSP:TRANSPARENT
END:VEVENT
BEGIN:VEVENT
DTSTART;VALUE=DATE:20191026
DTEND;VALUE=DATE:20191027
DTSTAMP:20250216T091043Z
UID:351c4m5v5r0nq4tflbnnpj7geo@google.com
CREATED:20190820T112746Z
LAST-MODIFIED:20190820T112746Z
SEQUENCE:0
STATUS:CONFIRMED
SUMMARY:県連会員大会　竹原
TRANSP:TRANSPARENT
END:VEVENT
BEGIN:VEVENT
DTSTART:20191030T110000Z
DTEND:20191030T130000Z
DTSTAMP:20250216T091043Z
UID:1nmc6ic998ut90nthahsptm9dp@google.com
CREATED:20191029T052252Z
LAST-MODIFIED:20191029T052354Z
LOCATION:（株）タマルコンサルタント\, 日本、〒728-0016 広島県三次市四拾貫町３３８−１
SEQUENCE:0
STATUS:CONFIRMED
SUMMARY:交流・渉外　合同個別会議
TRANSP:OPAQUE
END:VEVENT
BEGIN:VEVENT
DTSTART:20191029T043000Z
DTEND:20191029T063000Z
DTSTAMP:20250216T091043Z
UID:5j3qr6qfccep5270jla0lb7j21@google.com
CREATED:20191029T052642Z
LAST-MODIFIED:20191029T052642Z
LOCATION:十日市きんさいセンター\, 日本、〒728-0014 広島県三次市十日市南１丁目２−１８
SEQUENCE:0
STATUS:CONFIRMED
SUMMARY:観光推進ワークショップ①
TRANSP:OPAQUE
END:VEVENT
BEGIN:VEVENT
DTSTART:20191118T090000Z
DTEND:20191118T110000Z
DTSTAMP:20250216T091043Z
UID:2g8atphsmgthktjca203jfpc5v@google.com
CREATED:20191029T052716Z
LAST-MODIFIED:20191029T052716Z
LOCATION:十日市きんさいセンター\, 日本、〒728-0014 広島県三次市十日市南１丁目２−１８
SEQUENCE:0
STATUS:CONFIRMED
SUMMARY:観光推進ワークショップ②
TRANSP:OPAQUE
END:VEVENT
BEGIN:VEVENT
DTSTART:20191129T090000Z
DTEND:20191129T110000Z
DTSTAMP:20250216T091043Z
UID:2h9qsus3bh6qlcebq10spf7bgk@google.com
CREATED:20191029T052947Z
LAST-MODIFIED:20191029T052947Z
LOCATION:ＮＴＴクレドホール\, 日本、〒730-0011 広島県広島市中区基町６−７８
SEQUENCE:0
STATUS:CONFIRMED
SUMMARY:広島YEG　Talks
TRANSP:OPAQUE
END:VEVENT
BEGIN:VEVENT
DTSTART:20200106T030000Z
DTEND:20200106T043000Z
DTSTAMP:20250216T091043Z
UID:6q9ffdams8mjc70j85h0apc3l8@google.com
CREATED:20191029T053804Z
LAST-MODIFIED:20191029T053804Z
LOCATION:Miyoshi GRAND HOTEL\, 日本、〒728-0014 広島県三次市十日市南１丁目１０−１
SEQUENCE:0
STATUS:CONFIRMED
SUMMARY:三次商工会議所新年互例会
TRANSP:OPAQUE
END:VEVENT
BEGIN:VEVENT
DTSTART:20191126T100000Z
DTEND:20191126T104500Z
DTSTAMP:20250216T091043Z
UID:593dhdofvq17or6fe7fasfmqtb@google.com
CREATED:20191125T063625Z
LAST-MODIFIED:20191125T063625Z
LOCATION:三次商工会議所\, 日本、〒728-0021 広島県三次市三次町三次町 1843−1
SEQUENCE:0
STATUS:CONFIRMED
SUMMARY:後期会員オリエンテーション
TRANSP:OPAQUE
END:VEVENT
BEGIN:VEVENT
DTSTART:20191221T093000Z
DTEND:20191221T120000Z
DTSTAMP:20250216T091043Z
UID:4dd82m4tjul3nithcafjefqg8k@google.com
CREATED:20191211T120112Z
LAST-MODIFIED:20191211T120127Z
LOCATION:グランラセーレ三次\, 日本、〒728-0014 広島県三次市十日市南１丁目５−５
SEQUENCE:0
STATUS:CONFIRMED
SUMMARY:家族例会
TRANSP:OPAQUE
END:VEVENT
BEGIN:VEVENT
DTSTART:20200120T100000Z
DTEND:20200120T120000Z
DTSTAMP:20250216T091043Z
UID:1dtne14i3ab4ctc216rm7uhk4v@google.com
CREATED:20200113T141451Z
LAST-MODIFIED:20200113T141451Z
LOCATION:Miyoshi GRAND HOTEL\, 日本、〒728-0014 広島県三次市十日市南１丁目１０−１
SEQUENCE:0
STATUS:CONFIRMED
SUMMARY:新年例会OBOG交流会
TRANSP:OPAQUE
END:VEVENT
BEGIN:VEVENT
DTSTART;VALUE=DATE:20200303
DTEND;VALUE=DATE:20200304
DTSTAMP:20250216T091043Z
UID:064fsvtd0lunuhtqqitp72forn@google.com
CREATED:20190315T121738Z
LAST-MODIFIED:20200114T121232Z
SEQUENCE:1
STATUS:CONFIRMED
SUMMARY:正副会長会議
TRANSP:TRANSPARENT
END:VEVENT
BEGIN:VEVENT
DTSTART;VALUE=DATE:20200310
DTEND;VALUE=DATE:20200311
DTSTAMP:20250216T091043Z
UID:58uf1j604sneo725ecph7og0qh@google.com
CREATED:20190315T121751Z
LAST-MODIFIED:20200114T121239Z
SEQUENCE:1
STATUS:CONFIRMED
SUMMARY:役員会
TRANSP:TRANSPARENT
END:VEVENT
BEGIN:VEVENT
DTSTART:20200316T093000Z
DTEND:20200316T120000Z
DTSTAMP:20250216T091043Z
UID:35s0tr2modneb6bnnesgtvqvhg@google.com
CREATED:20200114T121433Z
LAST-MODIFIED:20200114T121433Z
LOCATION:広島三次ワイナリー\, 日本、〒728-0023 広島県三次市東酒屋町１０４４５−３
SEQUENCE:0
STATUS:CONFIRMED
SUMMARY:第６８回通常会員総会・卒業式
TRANSP:OPAQUE
END:VEVENT
END:VCALENDAR
